BEGIN:VCALENDAR
VERSION:2.0
PRODID:-//ФЕДЕРАЦИЯ ПРАКТИЧЕСКОЙ СТРЕЛЬБЫ РОССИИ - ECPv6.11.2//NONSGML v1.0//EN
CALSCALE:GREGORIAN
METHOD:PUBLISH
X-ORIGINAL-URL:https://ipsc.ru
X-WR-CALDESC:Мероприятия для ФЕДЕРАЦИЯ ПРАКТИЧЕСКОЙ СТРЕЛЬБЫ РОССИИ
REFRESH-INTERVAL;VALUE=DURATION:PT1H
X-Robots-Tag:noindex
X-PUBLISHED-TTL:PT1H
BEGIN:VTIMEZONE
TZID:Europe/Moscow
BEGIN:STANDARD
TZOFFSETFROM:+0300
TZOFFSETTO:+0300
TZNAME:MSK
DTSTART:20190101T000000
END:STANDARD
END:VTIMEZONE
BEGIN:VEVENT
DTSTART;VALUE=DATE:20190709
DTEND;VALUE=DATE:20190722
DTSTAMP:20260422T181952
CREATED:20190711T124142Z
LAST-MODIFIED:20190711T125053Z
UID:5467-1562630400-1563753599@ipsc.ru
SUMMARY:Мероприятие 3
DESCRIPTION:Мероприятие 3
URL:https://ipsc.ru/event/%d0%bc%d0%b5%d1%80%d0%be%d0%bf%d1%80%d0%b8%d1%8f%d1%82%d0%b8%d0%b5-3/
CATEGORIES:Рубрика 2
ATTACH;FMTTYPE=image/png:https://ipsc.ru/wp-content/uploads/2019/06/антей-07.png
END:VEVENT
END:VCALENDAR